BEGIN:VCALENDAR
VERSION:2.0
PRODID:-//Klamath Tribal Health - ECPv6.15.20//NONSGML v1.0//EN
CALSCALE:GREGORIAN
METHOD:PUBLISH
X-WR-CALNAME:Klamath Tribal Health
X-ORIGINAL-URL:https://www.klamathtribalhealth.org
X-WR-CALDESC:Events for Klamath Tribal Health
REFRESH-INTERVAL;VALUE=DURATION:PT1H
X-Robots-Tag:noindex
X-PUBLISHED-TTL:PT1H
BEGIN:VTIMEZONE
TZID:America/Los_Angeles
BEGIN:DAYLIGHT
TZOFFSETFROM:-0800
TZOFFSETTO:-0700
TZNAME:PDT
DTSTART:20250309T100000
END:DAYLIGHT
BEGIN:STANDARD
TZOFFSETFROM:-0700
TZOFFSETTO:-0800
TZNAME:PST
DTSTART:20251102T090000
END:STANDARD
BEGIN:DAYLIGHT
TZOFFSETFROM:-0800
TZOFFSETTO:-0700
TZNAME:PDT
DTSTART:20260308T100000
END:DAYLIGHT
BEGIN:STANDARD
TZOFFSETFROM:-0700
TZOFFSETTO:-0800
TZNAME:PST
DTSTART:20261101T090000
END:STANDARD
BEGIN:DAYLIGHT
TZOFFSETFROM:-0800
TZOFFSETTO:-0700
TZNAME:PDT
DTSTART:20270314T100000
END:DAYLIGHT
BEGIN:STANDARD
TZOFFSETFROM:-0700
TZOFFSETTO:-0800
TZNAME:PST
DTSTART:20271107T090000
END:STANDARD
END:VTIMEZONE
BEGIN:VEVENT
DTSTART;TZID=America/Los_Angeles:20260423T170000
DTEND;TZID=America/Los_Angeles:20260423T180000
DTSTAMP:20260420T015506
CREATED:20260409T214633Z
LAST-MODIFIED:20260409T214633Z
UID:10000628-1776963600-1776967200@www.klamathtribalhealth.org
SUMMARY:Beatty Health & Wellness Town Hall
DESCRIPTION:
URL:https://www.klamathtribalhealth.org/event/beatty-health-wellness-town-hall/
LOCATION:Irwin Weiser Community Center\, 24110 Godowa Springs Rd\, Beatty\, OR\, 97621\, United States
ATTACH;FMTTYPE=image/jpeg:https://www.klamathtribalhealth.org/wp-content/uploads/2026/04/Beatty-Town-Hall-scaled.jpg
END:VEVENT
BEGIN:VEVENT
DTSTART;VALUE=DATE:20260425
DTEND;VALUE=DATE:20260426
DTSTAMP:20260420T015506
CREATED:20260305T003940Z
LAST-MODIFIED:20260305T003940Z
UID:10000626-1777075200-1777161599@www.klamathtribalhealth.org
SUMMARY:Chi-Town 3 on 3 Showdown
DESCRIPTION:
URL:https://www.klamathtribalhealth.org/event/chi-town-3-on-3-showdown/
LOCATION:Tribal Fitness Center\, 320 S. CHILOQUIN BLVD\, CHILOQUIN\, OR 97624\, OR\, 97624\, United States
ATTACH;FMTTYPE=image/png:https://www.klamathtribalhealth.org/wp-content/uploads/2026/03/Chitown-Showdown.png
END:VEVENT
BEGIN:VEVENT
DTSTART;TZID=America/Los_Angeles:20260426T150000
DTEND;TZID=America/Los_Angeles:20260426T170000
DTSTAMP:20260420T015506
CREATED:20260120T231412Z
LAST-MODIFIED:20260120T231412Z
UID:10000555-1777215600-1777222800@www.klamathtribalhealth.org
SUMMARY:Tribal Open Gym
DESCRIPTION:
URL:https://www.klamathtribalhealth.org/event/tribal-open-gym/2026-04-26/
LOCATION:OR
CATEGORIES:Prevention
ATTACH;FMTTYPE=image/jpeg:https://www.klamathtribalhealth.org/wp-content/uploads/2026/01/Tribal-Open-Gym.jpg
END:VEVENT
BEGIN:VEVENT
DTSTART;TZID=America/Los_Angeles:20260428T170000
DTEND;TZID=America/Los_Angeles:20260428T190000
DTSTAMP:20260420T015506
CREATED:20251119T175220Z
LAST-MODIFIED:20260213T231549Z
UID:10000525-1777395600-1777402800@www.klamathtribalhealth.org
SUMMARY:Health Advisory Committee Meeting
DESCRIPTION:
URL:https://www.klamathtribalhealth.org/event/health-advisory-committee-meeting/2026-04-28/
LOCATION:OR
ATTACH;FMTTYPE=image/png:https://www.klamathtribalhealth.org/wp-content/uploads/2025/11/HAC-Meeting-2.24.26.png
END:VEVENT
END:VCALENDAR